BEGIN:VCALENDAR
VERSION:2.0
PRODID:spatie/icalendar-generator
NAME:Roller Disco – Open Roller Skate Night – June 5 – Adults Only
X-WR-CALNAME:Roller Disco – Open Roller Skate Night – June 5 – Adults
  Only
REFRESH-INTERVAL;VALUE=DURATION:PT720M
X-PUBLISHED-TTL:PT720M
BEGIN:VTIMEZONE
TZID:UTC
BEGIN:STANDARD
DTSTART:20250729T132919
TZOFFSETFROM:+0000
TZOFFSETTO:+0000
END:STANDARD
END:VTIMEZONE
BEGIN:VEVENT
UID:115@https://eventsinplainsight.com
DTSTAMP:20260425T132919Z
DTSTART:20260605T193000Z
DTEND:20260605T213000Z
SUMMARY:Roller Disco – Open Roller Skate Night – June 5 – Adults Only
DESCRIPTION:Music. Lights. Roller Skate! Come roller disco skate with us fo
 r this special event geared for adults!
URL:https://myderbydiary.eventsinplainsight.com/events/115
LOCATION:300 Wessex Street\, Sudbury\, Ontario\, Canada
END:VEVENT
END:VCALENDAR