BEGIN:VCALENDAR
VERSION:2.0
PRODID:spatie/icalendar-generator
NAME:Roller Disco – Open Roller Skate Night – Sudbury Pride
X-WR-CALNAME:Roller Disco – Open Roller Skate Night – Sudbury Pride
REFRESH-INTERVAL;VALUE=DURATION:PT720M
X-PUBLISHED-TTL:PT720M
BEGIN:VTIMEZONE
TZID:UTC
BEGIN:STANDARD
DTSTART:20250729T163734
TZOFFSETFROM:+0000
TZOFFSETTO:+0000
END:STANDARD
END:VTIMEZONE
BEGIN:VEVENT
UID:116@https://eventsinplainsight.com
DTSTAMP:20260425T163734Z
DTSTART:20260619T193000Z
DTEND:20260619T213000Z
SUMMARY:Roller Disco – Open Roller Skate Night – Sudbury Pride
DESCRIPTION:Music. Lights. Roller Skate!  Come roller disco skate with us w
 ith this special event in partnership with Fierte Sudbury Pride!
URL:https://myderbydiary.eventsinplainsight.com/events/116
LOCATION:300 Wessex Street\, Sudbury\, Ontario\, Canada
END:VEVENT
END:VCALENDAR