BEGIN:VCALENDAR
VERSION:2.0
PRODID:spatie/icalendar-generator
NAME:Home Game
X-WR-CALNAME:Home Game
REFRESH-INTERVAL;VALUE=DURATION:PT720M
X-PUBLISHED-TTL:PT720M
BEGIN:VTIMEZONE
TZID:UTC
BEGIN:STANDARD
DTSTART:20250730T033741
TZOFFSETFROM:+0000
TZOFFSETTO:+0000
END:STANDARD
END:VTIMEZONE
BEGIN:VEVENT
UID:117@https://eventsinplainsight.com
DTSTAMP:20260426T033741Z
DTSTART:20260620T190000Z
DTEND:20260620T210000Z
SUMMARY:Home Game
DESCRIPTION:NCRD A-Team VS Toronto RD Allstars
URL:https://myderbydiary.eventsinplainsight.com/events/117
LOCATION:300 Wessex Street\, Sudbury\, Ontario\, Canada
END:VEVENT
END:VCALENDAR