BEGIN:VCALENDAR
VERSION:2.0
PRODID:spatie/icalendar-generator
NAME:Roller Skating 101 – 7 Week Course – 2026 Group 2
X-WR-CALNAME:Roller Skating 101 – 7 Week Course – 2026 Group 2
REFRESH-INTERVAL;VALUE=DURATION:PT720M
X-PUBLISHED-TTL:PT720M
BEGIN:VTIMEZONE
TZID:UTC
BEGIN:STANDARD
DTSTART:20250729T132916
TZOFFSETFROM:+0000
TZOFFSETTO:+0000
END:STANDARD
END:VTIMEZONE
BEGIN:VEVENT
UID:118@https://eventsinplainsight.com
DTSTAMP:20260425T132916Z
DTSTART:20260827T183000Z
DTEND:20260827T200000Z
SUMMARY:Roller Skating 101 – 7 Week Course – 2026 Group 2
DESCRIPTION:Learn how to roller skate forwards and backwards\, different st
 ops\, hops\, and more.
URL:https://myderbydiary.eventsinplainsight.com/events/118
LOCATION:300 Wessex Street\, Sudbury\, Ontario\, Canada
END:VEVENT
END:VCALENDAR