BEGIN:VCALENDAR
VERSION:2.0
PRODID:spatie/icalendar-generator
NAME:Roller Disco – Open Roller Skate Night – July 17
X-WR-CALNAME:Roller Disco – Open Roller Skate Night – July 17
REFRESH-INTERVAL;VALUE=DURATION:PT720M
X-PUBLISHED-TTL:PT720M
BEGIN:VTIMEZONE
TZID:UTC
BEGIN:STANDARD
DTSTART:20250729T132918
TZOFFSETFROM:+0000
TZOFFSETTO:+0000
END:STANDARD
END:VTIMEZONE
BEGIN:VEVENT
UID:119@https://eventsinplainsight.com
DTSTAMP:20260425T132918Z
DTSTART:20260717T193000Z
DTEND:20260717T213000Z
SUMMARY:Roller Disco – Open Roller Skate Night – July 17
DESCRIPTION:Music. Lights. Roller Skate! Come roller disco skate with us.
URL:https://myderbydiary.eventsinplainsight.com/events/119
LOCATION:300 Wessex Street\, Sudbury\, Ontario\, Canada
END:VEVENT
END:VCALENDAR