BEGIN:VCALENDAR
VERSION:2.0
PRODID:spatie/icalendar-generator
NAME:Home Game
X-WR-CALNAME:Home Game
REFRESH-INTERVAL;VALUE=DURATION:PT720M
X-PUBLISHED-TTL:PT720M
BEGIN:VTIMEZONE
TZID:UTC
BEGIN:STANDARD
DTSTART:20250730T001717
TZOFFSETFROM:+0000
TZOFFSETTO:+0000
END:STANDARD
END:VTIMEZONE
BEGIN:VEVENT
UID:120@https://eventsinplainsight.com
DTSTAMP:20260426T001717Z
DTSTART:20260718T160000Z
DTEND:20260718T210000Z
SUMMARY:Home Game
DESCRIPTION:Double Header NCRD B-Team VS Hell’s Belles and Nipissing RD V
 S Grey Bruce RD
URL:https://myderbydiary.eventsinplainsight.com/events/120
LOCATION:300 Wessex Street\, Sudbury\, Ontario\, Canada
END:VEVENT
END:VCALENDAR