BEGIN:VCALENDAR
VERSION:2.0
PRODID:spatie/icalendar-generator
NAME:Home Game
X-WR-CALNAME:Home Game
REFRESH-INTERVAL;VALUE=DURATION:PT720M
X-PUBLISHED-TTL:PT720M
BEGIN:VTIMEZONE
TZID:UTC
BEGIN:STANDARD
DTSTART:20250729T132917
TZOFFSETFROM:+0000
TZOFFSETTO:+0000
END:STANDARD
END:VTIMEZONE
BEGIN:VEVENT
UID:122@https://eventsinplainsight.com
DTSTAMP:20260425T132917Z
DTSTART:20260822T160000Z
DTEND:20260822T200000Z
SUMMARY:Home Game
DESCRIPTION:Double Header – NCRD A-Team VS Niagara RD and NCRD B-Team VS 
 Nipissing
URL:https://myderbydiary.eventsinplainsight.com/events/122
LOCATION:300 Wessex Street\, Sudbury\, Ontario\, Canada
END:VEVENT
END:VCALENDAR