BEGIN:VCALENDAR
VERSION:2.0
PRODID:spatie/icalendar-generator
NAME:Spring Slam!
X-WR-CALNAME:Spring Slam!
REFRESH-INTERVAL;VALUE=DURATION:PT720M
X-PUBLISHED-TTL:PT720M
BEGIN:VTIMEZONE
TZID:UTC
BEGIN:STANDARD
DTSTART:20250722T173000
TZOFFSETFROM:+0000
TZOFFSETTO:+0000
END:STANDARD
END:VTIMEZONE
BEGIN:VEVENT
UID:123@https://eventsinplainsight.com
DTSTAMP:20260425T164443Z
DTSTART:20260418T173000Z
DTEND:20260418T220000Z
SUMMARY:Spring Slam!
DESCRIPTION:NRD Presents: Spring Slam! - A FULL-CONTACT\, Roller Derby Doub
 le-Header
URL:https://myderbydiary.eventsinplainsight.com/events/123
LOCATION:17 Beech Street\, St. Catharines\, Ontario\, Canada
END:VEVENT
END:VCALENDAR