BEGIN:VCALENDAR
VERSION:2.0
PRODID:spatie/icalendar-generator
NAME:Adult Learn to Skate
X-WR-CALNAME:Adult Learn to Skate
REFRESH-INTERVAL;VALUE=DURATION:PT720M
X-PUBLISHED-TTL:PT720M
BEGIN:VTIMEZONE
TZID:UTC
BEGIN:STANDARD
DTSTART:20250713T190000
TZOFFSETFROM:+0000
TZOFFSETTO:+0000
END:STANDARD
END:VTIMEZONE
BEGIN:VEVENT
UID:124@https://eventsinplainsight.com
DTSTAMP:20260425T132920Z
DTSTART:20260409T190000Z
DTEND:20260409T200000Z
SUMMARY:Adult Learn to Skate
DESCRIPTION:Wanna learn how to roller skate?
URL:https://myderbydiary.eventsinplainsight.com/events/124
LOCATION:17 Beech Street\, St. Catharines\, Ontario\, Canada
END:VEVENT
END:VCALENDAR