BEGIN:VCALENDAR
VERSION:2.0
PRODID:spatie/icalendar-generator
NAME:Scrimmapalooza 2026
X-WR-CALNAME:Scrimmapalooza 2026
REFRESH-INTERVAL;VALUE=DURATION:PT720M
X-PUBLISHED-TTL:PT720M
BEGIN:VTIMEZONE
TZID:UTC
BEGIN:STANDARD
DTSTART:20250701T090000
TZOFFSETFROM:+0000
TZOFFSETTO:+0000
END:STANDARD
END:VTIMEZONE
BEGIN:VEVENT
UID:126@https://eventsinplainsight.com
DTSTAMP:20260425T132917Z
DTSTART:20260328T090000Z
DTEND:20260328T210000Z
SUMMARY:Scrimmapalooza 2026
DESCRIPTION:Roller derby collides with party vibes for the ultimate scrimma
 ge-style
URL:https://myderbydiary.eventsinplainsight.com/events/126
LOCATION:172 South Drive\, Simcoe\, Ontario\, Canada
END:VEVENT
END:VCALENDAR