BEGIN:VCALENDAR
VERSION:2.0
PRODID:spatie/icalendar-generator
NAME:A Midsummer Night's Scream
X-WR-CALNAME:A Midsummer Night's Scream
REFRESH-INTERVAL;VALUE=DURATION:PT720M
X-PUBLISHED-TTL:PT720M
BEGIN:VTIMEZONE
TZID:UTC
BEGIN:STANDARD
DTSTART:20250715T160000
TZOFFSETFROM:+0000
TZOFFSETTO:+0000
END:STANDARD
END:VTIMEZONE
BEGIN:VEVENT
UID:127@https://eventsinplainsight.com
DTSTAMP:20260425T153803Z
DTSTART:20260411T160000Z
DTEND:20260411T200000Z
SUMMARY:A Midsummer Night's Scream
DESCRIPTION:We are most delighted to announce A Midsummer Night's Scream - 
 our 2026 Season Home Opener
URL:https://myderbydiary.eventsinplainsight.com/events/127
LOCATION:155 Arena Street\, Oshawa\, Ontario\, Canada
END:VEVENT
END:VCALENDAR