BEGIN:VCALENDAR
VERSION:2.0
PRODID:spatie/icalendar-generator
NAME:WFTDA Playoffs 2026 - North America – Ontario
X-WR-CALNAME:WFTDA Playoffs 2026 - North America – Ontario
REFRESH-INTERVAL;VALUE=DURATION:PT720M
X-PUBLISHED-TTL:PT720M
BEGIN:VTIMEZONE
TZID:UTC
BEGIN:STANDARD
DTSTART:20250729T192705
TZOFFSETFROM:+0000
TZOFFSETTO:+0000
END:STANDARD
END:VTIMEZONE
BEGIN:VEVENT
UID:132@https://eventsinplainsight.com
DTSTAMP:20260425T192705Z
DTSTART:20260605T120000Z
DTEND:20260607T200000Z
SUMMARY:WFTDA Playoffs 2026 - North America – Ontario
DESCRIPTION:WFTDA Playoffs 2026 - North America – Ontario
URL:https://myderbydiary.eventsinplainsight.com/events/132
LOCATION:101 Father David Bauer Dr\, Waterloo\, ON\, Canada
END:VEVENT
END:VCALENDAR