BEGIN:VCALENDAR
VERSION:2.0
PRODID:spatie/icalendar-generator
NAME:Bazingo - Heroes vs Villains Drop in Scrimmage
X-WR-CALNAME:Bazingo - Heroes vs Villains Drop in Scrimmage
REFRESH-INTERVAL;VALUE=DURATION:PT720M
X-PUBLISHED-TTL:PT720M
BEGIN:VTIMEZONE
TZID:UTC
BEGIN:STANDARD
DTSTART:20250722T193000
TZOFFSETFROM:+0000
TZOFFSETTO:+0000
END:STANDARD
END:VTIMEZONE
BEGIN:VEVENT
UID:160@https://eventsinplainsight.com
DTSTAMP:20260420T213031Z
DTSTART:20260418T193000Z
DTEND:20260419T014500Z
SUMMARY:Bazingo - Heroes vs Villains Drop in Scrimmage
DESCRIPTION:ROLLER DERBY BAZINGO! Heroes vs Villains Drop-In Scrimmage
URL:https://myderbydiary.eventsinplainsight.com/events/160
LOCATION:45530 Spadina Ave\, Chilliwack\, British Columbia\, Canada
END:VEVENT
END:VCALENDAR