BEGIN:VCALENDAR
VERSION:2.0
PRODID:spatie/icalendar-generator
NAME:There's a Revolution in the Valley - Part 3
X-WR-CALNAME:There's a Revolution in the Valley - Part 3
REFRESH-INTERVAL;VALUE=DURATION:PT720M
X-PUBLISHED-TTL:PT720M
BEGIN:VTIMEZONE
TZID:UTC
BEGIN:STANDARD
DTSTART:20250724T213318
TZOFFSETFROM:+0000
TZOFFSETTO:+0000
END:STANDARD
END:VTIMEZONE
BEGIN:VEVENT
UID:161@https://eventsinplainsight.com
DTSTAMP:20260420T213318Z
DTSTART:20260627T120000Z
DTEND:20260629T000000Z
SUMMARY:There's a Revolution in the Valley - Part 3
DESCRIPTION:Fraser Valley Fury is thrilled to announce the third year of ou
 r signature tournament — and for the first time ever\, it’s a 2-day ev
 ent!
URL:https://myderbydiary.eventsinplainsight.com/events/161
LOCATION:45530 Spadina Ave\, Chilliwack\, British Columbia\, Canada
END:VEVENT
END:VCALENDAR