BEGIN:VCALENDAR
VERSION:2.0
PRODID:spatie/icalendar-generator
NAME:Duck N' Derby
X-WR-CALNAME:Duck N' Derby
REFRESH-INTERVAL;VALUE=DURATION:PT720M
X-PUBLISHED-TTL:PT720M
BEGIN:VTIMEZONE
TZID:UTC
BEGIN:STANDARD
DTSTART:20250729T132920
TZOFFSETFROM:+0000
TZOFFSETTO:+0000
END:STANDARD
END:VTIMEZONE
BEGIN:VEVENT
UID:162@https://eventsinplainsight.com
DTSTAMP:20260425T132920Z
DTSTART:20260530T210000Z
DTEND:20260531T010000Z
SUMMARY:Duck N' Derby
DESCRIPTION:Join us for our home opener\, and play with your rubber duckie!
URL:https://myderbydiary.eventsinplainsight.com/events/162
LOCATION:11 Michael Anne Drive\, Coldwater\, ON\, Canada
END:VEVENT
END:VCALENDAR