BEGIN:VCALENDAR
VERSION:2.0
PRODID:spatie/icalendar-generator
NAME:Rebels & friends at Steam Punk Festival
X-WR-CALNAME:Rebels & friends at Steam Punk Festival
REFRESH-INTERVAL;VALUE=DURATION:PT720M
X-PUBLISHED-TTL:PT720M
BEGIN:VTIMEZONE
TZID:UTC
BEGIN:STANDARD
DTSTART:20250729T123652
TZOFFSETFROM:+0000
TZOFFSETTO:+0000
END:STANDARD
END:VTIMEZONE
BEGIN:VEVENT
UID:163@https://eventsinplainsight.com
DTSTAMP:20260425T123652Z
DTSTART:20260829T210000Z
DTEND:20260830T010000Z
SUMMARY:Rebels & friends at Steam Punk Festival
DESCRIPTION:Join the South Simcoe Rebels Rollers for a smashing double head
 er at the renowned Coldwater Steam Punk and Oddities festival.
URL:https://myderbydiary.eventsinplainsight.com/events/163
LOCATION:11 Michael Anne Drive\, Coldwater\, ON\, Canada
END:VEVENT
END:VCALENDAR