BEGIN:VCALENDAR
VERSION:2.0
PRODID:spatie/icalendar-generator
NAME:Open House
X-WR-CALNAME:Open House
REFRESH-INTERVAL;VALUE=DURATION:PT720M
X-PUBLISHED-TTL:PT720M
BEGIN:VTIMEZONE
TZID:UTC
BEGIN:STANDARD
DTSTART:20180815T170000
TZOFFSETFROM:+0000
TZOFFSETTO:+0000
END:STANDARD
END:VTIMEZONE
BEGIN:VEVENT
UID:18@https://eventsinplainsight.com
DTSTAMP:20260425T153208Z
DTSTART:20190512T170000Z
DTEND:20190512T190000Z
SUMMARY:Open House
URL:https://myderbydiary.eventsinplainsight.com/events/18
LOCATION:90 Wexford Dr\, Georgina\, ON\, Canada
END:VEVENT
END:VCALENDAR