BEGIN:VCALENDAR
VERSION:2.0
PRODID:spatie/icalendar-generator
NAME:Learn Roller Derby with OHRD!
X-WR-CALNAME:Learn Roller Derby with OHRD!
REFRESH-INTERVAL;VALUE=DURATION:PT720M
X-PUBLISHED-TTL:PT720M
BEGIN:VTIMEZONE
TZID:UTC
BEGIN:STANDARD
DTSTART:20180809T203000
TZOFFSETFROM:+0000
TZOFFSETTO:+0000
END:STANDARD
END:VTIMEZONE
BEGIN:VEVENT
UID:2@https://eventsinplainsight.com
DTSTAMP:20260425T153128Z
DTSTART:20190506T203000Z
DTEND:20190507T230000Z
SUMMARY:Learn Roller Derby with OHRD!
URL:https://myderbydiary.eventsinplainsight.com/events/2
LOCATION:3362 Refugee Rd\, Columbus\, Ohio\, United States
END:VEVENT
END:VCALENDAR