BEGIN:VCALENDAR
VERSION:2.0
PRODID:spatie/icalendar-generator
NAME:Check\, 1\, 2 Roller Derby Remix Sur5al Tournament for Level 1 and Lev
 el 2 Junior Roller Derby Players
X-WR-CALNAME:Check\, 1\, 2 Roller Derby Remix Sur5al Tournament for Level 1
  and Level 2 Junior Roller Derby Players
REFRESH-INTERVAL;VALUE=DURATION:PT720M
X-PUBLISHED-TTL:PT720M
BEGIN:VTIMEZONE
TZID:UTC
BEGIN:STANDARD
DTSTART:20250723T230315
TZOFFSETFROM:+0000
TZOFFSETTO:+0000
END:STANDARD
END:VTIMEZONE
BEGIN:VEVENT
UID:256@https://eventsinplainsight.com
DTSTAMP:20260419T230315Z
DTSTART:20260523T170000Z
DTEND:20260523T210000Z
SUMMARY:Check\, 1\, 2 Roller Derby Remix Sur5al Tournament for Level 1 and 
 Level 2 Junior Roller Derby Players
DESCRIPTION:Check\, 1\, 2 Roller Derby Remix Sur5al Tournament for Level 1 
 and Level 2 Junior Roller Derby Players
URL:https://myderbydiary.eventsinplainsight.com/events/256
LOCATION:121 Lincoln Ave\, Rochester\, NY\, United States
END:VEVENT
END:VCALENDAR