BEGIN:VCALENDAR
VERSION:2.0
PRODID:spatie/icalendar-generator
NAME:Spring Fling Scrimmage 2026
X-WR-CALNAME:Spring Fling Scrimmage 2026
REFRESH-INTERVAL;VALUE=DURATION:PT720M
X-PUBLISHED-TTL:PT720M
BEGIN:VTIMEZONE
TZID:UTC
BEGIN:STANDARD
DTSTART:20250723T232305
TZOFFSETFROM:+0000
TZOFFSETTO:+0000
END:STANDARD
END:VTIMEZONE
BEGIN:VEVENT
UID:257@https://eventsinplainsight.com
DTSTAMP:20260419T232305Z
DTSTART:20260517T210000Z
DTEND:20260518T000000Z
SUMMARY:Spring Fling Scrimmage 2026
DESCRIPTION:Spring Fling Scrimmage 2026
URL:https://myderbydiary.eventsinplainsight.com/events/257
LOCATION:5164 US-209\, Kerhonkson\, NY\, United States
END:VEVENT
END:VCALENDAR