BEGIN:VCALENDAR
VERSION:2.0
PRODID:spatie/icalendar-generator
NAME:Albany All Stars Season Opener
X-WR-CALNAME:Albany All Stars Season Opener
REFRESH-INTERVAL;VALUE=DURATION:PT720M
X-PUBLISHED-TTL:PT720M
BEGIN:VTIMEZONE
TZID:UTC
BEGIN:STANDARD
DTSTART:20250724T015640
TZOFFSETFROM:+0000
TZOFFSETTO:+0000
END:STANDARD
END:VTIMEZONE
BEGIN:VEVENT
UID:259@https://eventsinplainsight.com
DTSTAMP:20260420T015640Z
DTSTART:20260502T220000Z
DTEND:20260503T010000Z
SUMMARY:Albany All Stars Season Opener
DESCRIPTION:Albany All Stars Season Opener
URL:https://myderbydiary.eventsinplainsight.com/events/259
LOCATION:195 Washington Ave\, Albany\, NY\, United States
END:VEVENT
END:VCALENDAR