BEGIN:VCALENDAR
VERSION:2.0
PRODID:spatie/icalendar-generator
NAME:Albany All Stars Home Bout
X-WR-CALNAME:Albany All Stars Home Bout
REFRESH-INTERVAL;VALUE=DURATION:PT720M
X-PUBLISHED-TTL:PT720M
BEGIN:VTIMEZONE
TZID:UTC
BEGIN:STANDARD
DTSTART:20250724T020113
TZOFFSETFROM:+0000
TZOFFSETTO:+0000
END:STANDARD
END:VTIMEZONE
BEGIN:VEVENT
UID:262@https://eventsinplainsight.com
DTSTAMP:20260420T020113Z
DTSTART:20260919T220000Z
DTEND:20260920T010000Z
SUMMARY:Albany All Stars Home Bout
DESCRIPTION:Albany All Stars Home Bout
URL:https://myderbydiary.eventsinplainsight.com/events/262
LOCATION:195 Washington Ave\, Albany\, NY\, United States
END:VEVENT
END:VCALENDAR