BEGIN:VCALENDAR
VERSION:2.0
PRODID:spatie/icalendar-generator
NAME:Spring Sting
X-WR-CALNAME:Spring Sting
REFRESH-INTERVAL;VALUE=DURATION:PT720M
X-PUBLISHED-TTL:PT720M
BEGIN:VTIMEZONE
TZID:UTC
BEGIN:STANDARD
DTSTART:20250724T033257
TZOFFSETFROM:+0000
TZOFFSETTO:+0000
END:STANDARD
END:VTIMEZONE
BEGIN:VEVENT
UID:265@https://eventsinplainsight.com
DTSTAMP:20260420T033257Z
DTSTART:20260530T193000Z
DTEND:20260531T000000Z
SUMMARY:Spring Sting
DESCRIPTION:Spring Sting
URL:https://myderbydiary.eventsinplainsight.com/events/265
LOCATION:1 Stuart St\, Binghamton\, NY\, United States
END:VEVENT
END:VCALENDAR