BEGIN:VCALENDAR
VERSION:2.0
PRODID:spatie/icalendar-generator
NAME:Parlor City vs The World
X-WR-CALNAME:Parlor City vs The World
REFRESH-INTERVAL;VALUE=DURATION:PT720M
X-PUBLISHED-TTL:PT720M
BEGIN:VTIMEZONE
TZID:UTC
BEGIN:STANDARD
DTSTART:20250724T033928
TZOFFSETFROM:+0000
TZOFFSETTO:+0000
END:STANDARD
END:VTIMEZONE
BEGIN:VEVENT
UID:266@https://eventsinplainsight.com
DTSTAMP:20260420T033928Z
DTSTART:20260620T193000Z
DTEND:20260620T220000Z
SUMMARY:Parlor City vs The World
DESCRIPTION:Parlor City vs The World
URL:https://myderbydiary.eventsinplainsight.com/events/266
LOCATION:1 Stuart St\, Binghamton\, NY\, United States
END:VEVENT
END:VCALENDAR