BEGIN:VCALENDAR
VERSION:2.0
PRODID:spatie/icalendar-generator
NAME:Battle of the Boutfits
X-WR-CALNAME:Battle of the Boutfits
REFRESH-INTERVAL;VALUE=DURATION:PT720M
X-PUBLISHED-TTL:PT720M
BEGIN:VTIMEZONE
TZID:UTC
BEGIN:STANDARD
DTSTART:20250724T035545
TZOFFSETFROM:+0000
TZOFFSETTO:+0000
END:STANDARD
END:VTIMEZONE
BEGIN:VEVENT
UID:267@https://eventsinplainsight.com
DTSTAMP:20260420T035545Z
DTSTART:20260718T193000Z
DTEND:20260719T000000Z
SUMMARY:Battle of the Boutfits
DESCRIPTION:Battle of the Boutfits
URL:https://myderbydiary.eventsinplainsight.com/events/267
LOCATION:1 Stuart St\, Binghamton\, NY\, United States
END:VEVENT
END:VCALENDAR