BEGIN:VCALENDAR
VERSION:2.0
PRODID:spatie/icalendar-generator
NAME:Call the Shots!
X-WR-CALNAME:Call the Shots!
REFRESH-INTERVAL;VALUE=DURATION:PT720M
X-PUBLISHED-TTL:PT720M
BEGIN:VTIMEZONE
TZID:UTC
BEGIN:STANDARD
DTSTART:20250724T035247
TZOFFSETFROM:+0000
TZOFFSETTO:+0000
END:STANDARD
END:VTIMEZONE
BEGIN:VEVENT
UID:268@https://eventsinplainsight.com
DTSTAMP:20260420T035247Z
DTSTART:20260815T193000Z
DTEND:20260815T220000Z
SUMMARY:Call the Shots!
DESCRIPTION:Call the Shots!
URL:https://myderbydiary.eventsinplainsight.com/events/268
LOCATION:1 Stuart St\, Binghamton\, NY\, United States
END:VEVENT
END:VCALENDAR