BEGIN:VCALENDAR
VERSION:2.0
PRODID:spatie/icalendar-generator
NAME:Devil Dollies vs Alley Kats
X-WR-CALNAME:Devil Dollies vs Alley Kats
REFRESH-INTERVAL;VALUE=DURATION:PT720M
X-PUBLISHED-TTL:PT720M
BEGIN:VTIMEZONE
TZID:UTC
BEGIN:STANDARD
DTSTART:20250724T042717
TZOFFSETFROM:+0000
TZOFFSETTO:+0000
END:STANDARD
END:VTIMEZONE
BEGIN:VEVENT
UID:269@https://eventsinplainsight.com
DTSTAMP:20260420T042717Z
DTSTART:20260429T220000Z
DTEND:20260430T010000Z
SUMMARY:Devil Dollies vs Alley Kats
DESCRIPTION:Devil Dollies vs Alley Kats
URL:https://myderbydiary.eventsinplainsight.com/events/269
LOCATION:359 Ganson Street\, Buffalo\, New York\, United States
END:VEVENT
END:VCALENDAR