BEGIN:VCALENDAR
VERSION:2.0
PRODID:spatie/icalendar-generator
NAME:Saucies vs Alley Kats
X-WR-CALNAME:Saucies vs Alley Kats
REFRESH-INTERVAL;VALUE=DURATION:PT720M
X-PUBLISHED-TTL:PT720M
BEGIN:VTIMEZONE
TZID:UTC
BEGIN:STANDARD
DTSTART:20250724T044804
TZOFFSETFROM:+0000
TZOFFSETTO:+0000
END:STANDARD
END:VTIMEZONE
BEGIN:VEVENT
UID:270@https://eventsinplainsight.com
DTSTAMP:20260420T044804Z
DTSTART:20260514T220000Z
DTEND:20260515T010000Z
SUMMARY:Saucies vs Alley Kats
DESCRIPTION:Saucies vs Alley Kats
URL:https://myderbydiary.eventsinplainsight.com/events/270
LOCATION:359 Ganson Street\, Buffalo\, New York\, United States
END:VEVENT
END:VCALENDAR