BEGIN:VCALENDAR
VERSION:2.0
PRODID:spatie/icalendar-generator
NAME:QCRD 2026 PLAYOFFS!!!!
X-WR-CALNAME:QCRD 2026 PLAYOFFS!!!!
REFRESH-INTERVAL;VALUE=DURATION:PT720M
X-PUBLISHED-TTL:PT720M
BEGIN:VTIMEZONE
TZID:UTC
BEGIN:STANDARD
DTSTART:20250724T043034
TZOFFSETFROM:+0000
TZOFFSETTO:+0000
END:STANDARD
END:VTIMEZONE
BEGIN:VEVENT
UID:271@https://eventsinplainsight.com
DTSTAMP:20260420T043034Z
DTSTART:20260524T170000Z
DTEND:20260524T200000Z
SUMMARY:QCRD 2026 PLAYOFFS!!!!
DESCRIPTION:QCRD 2026 PLAYOFFS!!!!
URL:https://myderbydiary.eventsinplainsight.com/events/271
LOCATION:359 Ganson Street\, Buffalo\, New York\, United States
END:VEVENT
END:VCALENDAR