BEGIN:VCALENDAR
VERSION:2.0
PRODID:spatie/icalendar-generator
NAME:QCRD Champs!
X-WR-CALNAME:QCRD Champs!
REFRESH-INTERVAL;VALUE=DURATION:PT720M
X-PUBLISHED-TTL:PT720M
BEGIN:VTIMEZONE
TZID:UTC
BEGIN:STANDARD
DTSTART:20250724T044635
TZOFFSETFROM:+0000
TZOFFSETTO:+0000
END:STANDARD
END:VTIMEZONE
BEGIN:VEVENT
UID:272@https://eventsinplainsight.com
DTSTAMP:20260420T044635Z
DTSTART:20260530T200000Z
DTEND:20260530T230000Z
SUMMARY:QCRD Champs!
DESCRIPTION:QCRD Champs!
URL:https://myderbydiary.eventsinplainsight.com/events/272
LOCATION:359 Ganson Street\, Buffalo\, New York\, United States
END:VEVENT
END:VCALENDAR