BEGIN:VCALENDAR
VERSION:2.0
PRODID:spatie/icalendar-generator
NAME:Firestorm vs The Midhudson Mifits
X-WR-CALNAME:Firestorm vs The Midhudson Mifits
REFRESH-INTERVAL;VALUE=DURATION:PT720M
X-PUBLISHED-TTL:PT720M
BEGIN:VTIMEZONE
TZID:UTC
BEGIN:STANDARD
DTSTART:20250724T042742
TZOFFSETFROM:+0000
TZOFFSETTO:+0000
END:STANDARD
END:VTIMEZONE
BEGIN:VEVENT
UID:274@https://eventsinplainsight.com
DTSTAMP:20260420T042742Z
DTSTART:20260425T213000Z
DTEND:20260426T000000Z
SUMMARY:Firestorm vs The Midhudson Mifits
DESCRIPTION:Firestorm vs The Midhudson Mifits
URL:https://myderbydiary.eventsinplainsight.com/events/274
LOCATION:1717 NY-17M\, Goshen\, NY\, United States
END:VEVENT
END:VCALENDAR