BEGIN:VCALENDAR
VERSION:2.0
PRODID:spatie/icalendar-generator
NAME:FSRD Rookie Mixer
X-WR-CALNAME:FSRD Rookie Mixer
REFRESH-INTERVAL;VALUE=DURATION:PT720M
X-PUBLISHED-TTL:PT720M
BEGIN:VTIMEZONE
TZID:UTC
BEGIN:STANDARD
DTSTART:20250724T044713
TZOFFSETFROM:+0000
TZOFFSETTO:+0000
END:STANDARD
END:VTIMEZONE
BEGIN:VEVENT
UID:275@https://eventsinplainsight.com
DTSTAMP:20260420T044713Z
DTSTART:20260523T213000Z
DTEND:20260524T000000Z
SUMMARY:FSRD Rookie Mixer
DESCRIPTION:FSRD Rookie Mixer
URL:https://myderbydiary.eventsinplainsight.com/events/275
LOCATION:1717 NY-17M\, Goshen\, NY\, United States
END:VEVENT
END:VCALENDAR