BEGIN:VCALENDAR
VERSION:2.0
PRODID:spatie/icalendar-generator
NAME:FSRD Pride Mixer
X-WR-CALNAME:FSRD Pride Mixer
REFRESH-INTERVAL;VALUE=DURATION:PT720M
X-PUBLISHED-TTL:PT720M
BEGIN:VTIMEZONE
TZID:UTC
BEGIN:STANDARD
DTSTART:20250724T052509
TZOFFSETFROM:+0000
TZOFFSETTO:+0000
END:STANDARD
END:VTIMEZONE
BEGIN:VEVENT
UID:276@https://eventsinplainsight.com
DTSTAMP:20260420T052509Z
DTSTART:20260613T210300Z
DTEND:20260614T000000Z
SUMMARY:FSRD Pride Mixer
DESCRIPTION:FSRD Pride Mixer
URL:https://myderbydiary.eventsinplainsight.com/events/276
LOCATION:1717 NY-17M\, Goshen\, NY\, United States
END:VEVENT
END:VCALENDAR