BEGIN:VCALENDAR
VERSION:2.0
PRODID:spatie/icalendar-generator
NAME:Home Game
X-WR-CALNAME:Home Game
REFRESH-INTERVAL;VALUE=DURATION:PT720M
X-PUBLISHED-TTL:PT720M
BEGIN:VTIMEZONE
TZID:UTC
BEGIN:STANDARD
DTSTART:20250724T232950
TZOFFSETFROM:+0000
TZOFFSETTO:+0000
END:STANDARD
END:VTIMEZONE
BEGIN:VEVENT
UID:277@https://eventsinplainsight.com
DTSTAMP:20260420T232950Z
DTSTART:20260627T210000Z
DTEND:20260628T000000Z
SUMMARY:Home Game
DESCRIPTION:Home Game
URL:https://myderbydiary.eventsinplainsight.com/events/277
LOCATION:1400 Industrial Hwy\, Pottstown\, PA\, United States
END:VEVENT
END:VCALENDAR