BEGIN:VCALENDAR
VERSION:2.0
PRODID:spatie/icalendar-generator
NAME:Home Game
X-WR-CALNAME:Home Game
REFRESH-INTERVAL;VALUE=DURATION:PT720M
X-PUBLISHED-TTL:PT720M
BEGIN:VTIMEZONE
TZID:UTC
BEGIN:STANDARD
DTSTART:20250724T232634
TZOFFSETFROM:+0000
TZOFFSETTO:+0000
END:STANDARD
END:VTIMEZONE
BEGIN:VEVENT
UID:278@https://eventsinplainsight.com
DTSTAMP:20260420T232634Z
DTSTART:20260725T210000Z
DTEND:20260726T000000Z
SUMMARY:Home Game
DESCRIPTION:Home Game
URL:https://myderbydiary.eventsinplainsight.com/events/278
LOCATION:1400 Industrial Hwy\, Pottstown\, PA\, United States
END:VEVENT
END:VCALENDAR