BEGIN:VCALENDAR
VERSION:2.0
PRODID:spatie/icalendar-generator
NAME:Home Bout | Double Header
X-WR-CALNAME:Home Bout | Double Header
REFRESH-INTERVAL;VALUE=DURATION:PT720M
X-PUBLISHED-TTL:PT720M
BEGIN:VTIMEZONE
TZID:UTC
BEGIN:STANDARD
DTSTART:20250724T231253
TZOFFSETFROM:+0000
TZOFFSETTO:+0000
END:STANDARD
END:VTIMEZONE
BEGIN:VEVENT
UID:280@https://eventsinplainsight.com
DTSTAMP:20260420T231253Z
DTSTART:20260516T170000Z
DTEND:20260516T210000Z
SUMMARY:Home Bout | Double Header
DESCRIPTION:Home Bout | Double Header
URL:https://myderbydiary.eventsinplainsight.com/events/280
LOCATION:701 E State St\, Athens\, OH\, USA
END:VEVENT
END:VCALENDAR