BEGIN:VCALENDAR
VERSION:2.0
PRODID:spatie/icalendar-generator
NAME:Steel City vs. Erie Roller Derby & Morgantown Roller Derby
X-WR-CALNAME:Steel City vs. Erie Roller Derby & Morgantown Roller Derby
REFRESH-INTERVAL;VALUE=DURATION:PT720M
X-PUBLISHED-TTL:PT720M
BEGIN:VTIMEZONE
TZID:UTC
BEGIN:STANDARD
DTSTART:20250724T233037
TZOFFSETFROM:+0000
TZOFFSETTO:+0000
END:STANDARD
END:VTIMEZONE
BEGIN:VEVENT
UID:281@https://eventsinplainsight.com
DTSTAMP:20260420T233037Z
DTSTART:20260530T203000Z
DTEND:20260531T010000Z
SUMMARY:Steel City vs. Erie Roller Derby & Morgantown Roller Derby
DESCRIPTION:Steel City vs. Erie Roller Derby & Morgantown Roller Derby
URL:https://myderbydiary.eventsinplainsight.com/events/281
LOCATION:22 Rich Hill Rd\, Cheswick\, PA\, USA
END:VEVENT
END:VCALENDAR