BEGIN:VCALENDAR
VERSION:2.0
PRODID:spatie/icalendar-generator
NAME:Mountain Melee
X-WR-CALNAME:Mountain Melee
REFRESH-INTERVAL;VALUE=DURATION:PT720M
X-PUBLISHED-TTL:PT720M
BEGIN:VTIMEZONE
TZID:UTC
BEGIN:STANDARD
DTSTART:20250725T002631
TZOFFSETFROM:+0000
TZOFFSETTO:+0000
END:STANDARD
END:VTIMEZONE
BEGIN:VEVENT
UID:285@https://eventsinplainsight.com
DTSTAMP:20260421T002631Z
DTSTART:20260926T020000Z
DTEND:20260927T230000Z
SUMMARY:Mountain Melee
DESCRIPTION:Mountain Melee
URL:https://myderbydiary.eventsinplainsight.com/events/285
LOCATION:225 McCormick Wy\, Triadelphia\, WV\, United States
END:VEVENT
END:VCALENDAR