BEGIN:VCALENDAR
VERSION:2.0
PRODID:spatie/icalendar-generator
NAME:Steel City vs. Gem City Roller Derby
X-WR-CALNAME:Steel City vs. Gem City Roller Derby
REFRESH-INTERVAL;VALUE=DURATION:PT720M
X-PUBLISHED-TTL:PT720M
BEGIN:VTIMEZONE
TZID:UTC
BEGIN:STANDARD
DTSTART:20250725T041224
TZOFFSETFROM:+0000
TZOFFSETTO:+0000
END:STANDARD
END:VTIMEZONE
BEGIN:VEVENT
UID:287@https://eventsinplainsight.com
DTSTAMP:20260421T041224Z
DTSTART:20260815T203000Z
DTEND:20260816T013000Z
SUMMARY:Steel City vs. Gem City Roller Derby
DESCRIPTION:Steel City vs. Gem City Roller Derby
URL:https://myderbydiary.eventsinplainsight.com/events/287
LOCATION:22 Rich Hill Rd\, Cheswick\, PA\, USA
END:VEVENT
END:VCALENDAR