BEGIN:VCALENDAR
VERSION:2.0
PRODID:spatie/icalendar-generator
NAME:Steel City vs. Kalamazoo Roller Derby & Chemical Valley Roller Derby
X-WR-CALNAME:Steel City vs. Kalamazoo Roller Derby & Chemical Valley Roller
  Derby
REFRESH-INTERVAL;VALUE=DURATION:PT720M
X-PUBLISHED-TTL:PT720M
BEGIN:VTIMEZONE
TZID:UTC
BEGIN:STANDARD
DTSTART:20250725T041258
TZOFFSETFROM:+0000
TZOFFSETTO:+0000
END:STANDARD
END:VTIMEZONE
BEGIN:VEVENT
UID:288@https://eventsinplainsight.com
DTSTAMP:20260421T041258Z
DTSTART:20260912T203000Z
DTEND:20260913T013000Z
SUMMARY:Steel City vs. Kalamazoo Roller Derby & Chemical Valley Roller Derb
 y
DESCRIPTION:Steel City vs. Kalamazoo Roller Derby & Chemical Valley Roller 
 Derby
URL:https://myderbydiary.eventsinplainsight.com/events/288
LOCATION:22 Rich Hill Rd\, Cheswick\, PA\, USA
END:VEVENT
END:VCALENDAR