BEGIN:VCALENDAR
VERSION:2.0
PRODID:spatie/icalendar-generator
NAME:20th Shenanigan Mixer
X-WR-CALNAME:20th Shenanigan Mixer
REFRESH-INTERVAL;VALUE=DURATION:PT720M
X-PUBLISHED-TTL:PT720M
BEGIN:VTIMEZONE
TZID:UTC
BEGIN:STANDARD
DTSTART:20250725T041218
TZOFFSETFROM:+0000
TZOFFSETTO:+0000
END:STANDARD
END:VTIMEZONE
BEGIN:VEVENT
UID:289@https://eventsinplainsight.com
DTSTAMP:20260421T041218Z
DTSTART:20261024T203000Z
DTEND:20261025T013000Z
SUMMARY:20th Shenanigan Mixer
DESCRIPTION:20th Shenanigan Mixer
URL:https://myderbydiary.eventsinplainsight.com/events/289
LOCATION:22 Rich Hill Rd\, Cheswick\, PA\, USA
END:VEVENT
END:VCALENDAR