BEGIN:VCALENDAR
VERSION:2.0
PRODID:spatie/icalendar-generator
NAME:Black Rose Rollers Double Header
X-WR-CALNAME:Black Rose Rollers Double Header
REFRESH-INTERVAL;VALUE=DURATION:PT720M
X-PUBLISHED-TTL:PT720M
BEGIN:VTIMEZONE
TZID:UTC
BEGIN:STANDARD
DTSTART:20250725T042524
TZOFFSETFROM:+0000
TZOFFSETTO:+0000
END:STANDARD
END:VTIMEZONE
BEGIN:VEVENT
UID:290@https://eventsinplainsight.com
DTSTAMP:20260421T042524Z
DTSTART:20260509T153000Z
DTEND:20260509T200000Z
SUMMARY:Black Rose Rollers Double Header
DESCRIPTION:Black Rose Rollers Double Header
URL:https://myderbydiary.eventsinplainsight.com/events/290
LOCATION:2810 E Prospect Rd\, York\, PA\, United States
END:VEVENT
END:VCALENDAR