BEGIN:VCALENDAR
VERSION:2.0
PRODID:spatie/icalendar-generator
NAME:HARD vs. Mass Attack - Double Header
X-WR-CALNAME:HARD vs. Mass Attack - Double Header
REFRESH-INTERVAL;VALUE=DURATION:PT720M
X-PUBLISHED-TTL:PT720M
BEGIN:VTIMEZONE
TZID:UTC
BEGIN:STANDARD
DTSTART:20250725T051928
TZOFFSETFROM:+0000
TZOFFSETTO:+0000
END:STANDARD
END:VTIMEZONE
BEGIN:VEVENT
UID:293@https://eventsinplainsight.com
DTSTAMP:20260421T051928Z
DTSTART:20260816T164500Z
DTEND:20260816T220000Z
SUMMARY:HARD vs. Mass Attack - Double Header
DESCRIPTION:HARD vs. Mass Attack - Double Header
URL:https://myderbydiary.eventsinplainsight.com/events/293
LOCATION:60 E. Shady Lane\, Enola\, PA\, USA
END:VEVENT
END:VCALENDAR