BEGIN:VCALENDAR
VERSION:2.0
PRODID:spatie/icalendar-generator
NAME:HARD vs. Wilkes-Barre - Double Header
X-WR-CALNAME:HARD vs. Wilkes-Barre - Double Header
REFRESH-INTERVAL;VALUE=DURATION:PT720M
X-PUBLISHED-TTL:PT720M
BEGIN:VTIMEZONE
TZID:UTC
BEGIN:STANDARD
DTSTART:20250725T052100
TZOFFSETFROM:+0000
TZOFFSETTO:+0000
END:STANDARD
END:VTIMEZONE
BEGIN:VEVENT
UID:295@https://eventsinplainsight.com
DTSTAMP:20260421T052100Z
DTSTART:20260920T194500Z
DTEND:20260921T000000Z
SUMMARY:HARD vs. Wilkes-Barre - Double Header
DESCRIPTION:HARD vs. Wilkes-Barre - Double Header
URL:https://myderbydiary.eventsinplainsight.com/events/295
LOCATION:60 E. Shady Lane\, Enola\, PA\, USA
END:VEVENT
END:VCALENDAR