BEGIN:VCALENDAR
VERSION:2.0
PRODID:spatie/icalendar-generator
NAME:HARD vs. Hellions of Troy / Shenanigans Fundraiser - Double Header
X-WR-CALNAME:HARD vs. Hellions of Troy / Shenanigans Fundraiser - Double He
 ader
REFRESH-INTERVAL;VALUE=DURATION:PT720M
X-PUBLISHED-TTL:PT720M
BEGIN:VTIMEZONE
TZID:UTC
BEGIN:STANDARD
DTSTART:20250725T051928
TZOFFSETFROM:+0000
TZOFFSETTO:+0000
END:STANDARD
END:VTIMEZONE
BEGIN:VEVENT
UID:296@https://eventsinplainsight.com
DTSTAMP:20260421T051928Z
DTSTART:20261018T194500Z
DTEND:20261019T000000Z
SUMMARY:HARD vs. Hellions of Troy / Shenanigans Fundraiser - Double Header
DESCRIPTION:HARD vs. Hellions of Troy / Shenanigans Fundraiser - Double Hea
 der
URL:https://myderbydiary.eventsinplainsight.com/events/296
LOCATION:60 E. Shady Lane\, Enola\, PA\, USA
END:VEVENT
END:VCALENDAR