BEGIN:VCALENDAR
VERSION:2.0
PRODID:spatie/icalendar-generator
NAME:HARD vs. Iron Mountain / Mixer - Double Header
X-WR-CALNAME:HARD vs. Iron Mountain / Mixer - Double Header
REFRESH-INTERVAL;VALUE=DURATION:PT720M
X-PUBLISHED-TTL:PT720M
BEGIN:VTIMEZONE
TZID:UTC
BEGIN:STANDARD
DTSTART:20250725T052357
TZOFFSETFROM:+0000
TZOFFSETTO:+0000
END:STANDARD
END:VTIMEZONE
BEGIN:VEVENT
UID:297@https://eventsinplainsight.com
DTSTAMP:20260421T052357Z
DTSTART:20261115T204500Z
DTEND:20261116T010000Z
SUMMARY:HARD vs. Iron Mountain / Mixer - Double Header
DESCRIPTION:HARD vs. Iron Mountain / Mixer - Double Header
URL:https://myderbydiary.eventsinplainsight.com/events/297
LOCATION:60 E. Shady Lane\, Enola\, PA\, USA
END:VEVENT
END:VCALENDAR