BEGIN:VCALENDAR
VERSION:2.0
PRODID:spatie/icalendar-generator
NAME:3rd Annual Forbidden Cats Tournament
X-WR-CALNAME:3rd Annual Forbidden Cats Tournament
REFRESH-INTERVAL;VALUE=DURATION:PT720M
X-PUBLISHED-TTL:PT720M
BEGIN:VTIMEZONE
TZID:UTC
BEGIN:STANDARD
DTSTART:20250725T052237
TZOFFSETFROM:+0000
TZOFFSETTO:+0000
END:STANDARD
END:VTIMEZONE
BEGIN:VEVENT
UID:298@https://eventsinplainsight.com
DTSTAMP:20260421T052237Z
DTSTART:20261114T140000Z
DTEND:20261115T010000Z
SUMMARY:3rd Annual Forbidden Cats Tournament
DESCRIPTION:3rd Annual Forbidden Cats Tournament
URL:https://myderbydiary.eventsinplainsight.com/events/298
LOCATION:1400 Industrial Hwy\, Pottstown\, Pennsylvania\, United States
END:VEVENT
END:VCALENDAR