BEGIN:VCALENDAR
VERSION:2.0
PRODID:spatie/icalendar-generator
NAME:October Double Header
X-WR-CALNAME:October Double Header
REFRESH-INTERVAL;VALUE=DURATION:PT720M
X-PUBLISHED-TTL:PT720M
BEGIN:VTIMEZONE
TZID:UTC
BEGIN:STANDARD
DTSTART:20250725T051937
TZOFFSETFROM:+0000
TZOFFSETTO:+0000
END:STANDARD
END:VTIMEZONE
BEGIN:VEVENT
UID:299@https://eventsinplainsight.com
DTSTAMP:20260421T051937Z
DTSTART:20261018T130000Z
DTEND:20261018T160000Z
SUMMARY:October Double Header
DESCRIPTION:October Double Header
URL:https://myderbydiary.eventsinplainsight.com/events/299
LOCATION:2117 Bethlehem Pike\, Hatfield\, Pennsylvania\, United States
END:VEVENT
END:VCALENDAR