BEGIN:VCALENDAR
VERSION:2.0
PRODID:spatie/icalendar-generator
NAME:Fight for your Right to PARDy
X-WR-CALNAME:Fight for your Right to PARDy
REFRESH-INTERVAL;VALUE=DURATION:PT720M
X-PUBLISHED-TTL:PT720M
BEGIN:VTIMEZONE
TZID:UTC
BEGIN:STANDARD
DTSTART:20180905T050000
TZOFFSETFROM:+0000
TZOFFSETTO:+0000
END:STANDARD
END:VTIMEZONE
BEGIN:VEVENT
UID:30@https://eventsinplainsight.com
DTSTAMP:20260425T153804Z
DTSTART:20190602T050000Z
DTEND:20190602T090000Z
SUMMARY:Fight for your Right to PARDy
URL:https://myderbydiary.eventsinplainsight.com/events/30
LOCATION:911 Monaghan Rd\, Peterborough\, Ontario\, Canada
END:VEVENT
END:VCALENDAR