BEGIN:VCALENDAR
VERSION:2.0
PRODID:spatie/icalendar-generator
NAME:August Double Header
X-WR-CALNAME:August Double Header
REFRESH-INTERVAL;VALUE=DURATION:PT720M
X-PUBLISHED-TTL:PT720M
BEGIN:VTIMEZONE
TZID:UTC
BEGIN:STANDARD
DTSTART:20250725T052051
TZOFFSETFROM:+0000
TZOFFSETTO:+0000
END:STANDARD
END:VTIMEZONE
BEGIN:VEVENT
UID:301@https://eventsinplainsight.com
DTSTAMP:20260421T052051Z
DTSTART:20260808T203000Z
DTEND:20260809T010000Z
SUMMARY:August Double Header
DESCRIPTION:August Double Header
URL:https://myderbydiary.eventsinplainsight.com/events/301
LOCATION:1400 Industrial Hwy\, Pottstown\, Pennsylvania\, United States
END:VEVENT
END:VCALENDAR